BEGIN:VCALENDAR
VERSION:2.0
PRODID:-//Loksa linn - ECPv6.15.20//NONSGML v1.0//EN
CALSCALE:GREGORIAN
METHOD:PUBLISH
X-WR-CALNAME:Loksa linn
X-ORIGINAL-URL:https://loksalinn.ee
X-WR-CALDESC:Events for Loksa linn
REFRESH-INTERVAL;VALUE=DURATION:PT1H
X-Robots-Tag:noindex
X-PUBLISHED-TTL:PT1H
BEGIN:VTIMEZONE
TZID:Europe/Tallinn
BEGIN:DAYLIGHT
TZOFFSETFROM:+0200
TZOFFSETTO:+0300
TZNAME:EEST
DTSTART:20250330T010000
END:DAYLIGHT
BEGIN:STANDARD
TZOFFSETFROM:+0300
TZOFFSETTO:+0200
TZNAME:EET
DTSTART:20251026T010000
END:STANDARD
BEGIN:DAYLIGHT
TZOFFSETFROM:+0200
TZOFFSETTO:+0300
TZNAME:EEST
DTSTART:20260329T010000
END:DAYLIGHT
BEGIN:STANDARD
TZOFFSETFROM:+0300
TZOFFSETTO:+0200
TZNAME:EET
DTSTART:20261025T010000
END:STANDARD
BEGIN:DAYLIGHT
TZOFFSETFROM:+0200
TZOFFSETTO:+0300
TZNAME:EEST
DTSTART:20270328T010000
END:DAYLIGHT
BEGIN:STANDARD
TZOFFSETFROM:+0300
TZOFFSETTO:+0200
TZNAME:EET
DTSTART:20271031T010000
END:STANDARD
END:VTIMEZONE
BEGIN:VEVENT
DTSTART;TZID=Europe/Tallinn:20260218T190000
DTEND;TZID=Europe/Tallinn:20260218T203000
DTSTAMP:20260420T211604
CREATED:20260218T164558Z
LAST-MODIFIED:20260324T072721Z
UID:9313-1771441200-1771446600@loksalinn.ee
SUMMARY:Loksa linna kliima- ja energiakava avalikustamiskoosolek
DESCRIPTION:Kliima- ja energiakava peamine eesmärk on suurendada Loksa linna valmisolekut ja võimet kliimamuutuste mõjudega kohanemiseks ning vähendada linna kasvuhoonegaaside heidet (kliimamuutuste leevendamine). \nEttepanekuid Loksa linna kliima- ja energiakava muutmiseks on võimalik saata e-posti aadressil linn@loksa.ee\, kuni 16.02.2026 kell 12.00. \nLoksa Linnavalitsus kutsub kliima- ja energiakava avalikustamiskoosolekule 18. veebruaril algusega kell 19.00 Loksa Linnavalitsuse saalis\, aadress Tallinna tn 45\, Loksa \nLisainfo SIIN.
URL:https://loksalinn.ee/sundmus/loksa-linna-kliima-ja-energiakava-avalikustamiskoosolek/
LOCATION:Harjumaa
END:VEVENT
END:VCALENDAR