BEGIN:VCALENDAR
VERSION:2.0
PRODID:-//Loksa linn - ECPv6.15.20//NONSGML v1.0//EN
CALSCALE:GREGORIAN
METHOD:PUBLISH
X-WR-CALNAME:Loksa linn
X-ORIGINAL-URL:https://loksalinn.ee
X-WR-CALDESC:Events for Loksa linn
REFRESH-INTERVAL;VALUE=DURATION:PT1H
X-Robots-Tag:noindex
X-PUBLISHED-TTL:PT1H
BEGIN:VTIMEZONE
TZID:Europe/Tallinn
BEGIN:DAYLIGHT
TZOFFSETFROM:+0200
TZOFFSETTO:+0300
TZNAME:EEST
DTSTART:20240331T010000
END:DAYLIGHT
BEGIN:STANDARD
TZOFFSETFROM:+0300
TZOFFSETTO:+0200
TZNAME:EET
DTSTART:20241027T010000
END:STANDARD
BEGIN:DAYLIGHT
TZOFFSETFROM:+0200
TZOFFSETTO:+0300
TZNAME:EEST
DTSTART:20250330T010000
END:DAYLIGHT
BEGIN:STANDARD
TZOFFSETFROM:+0300
TZOFFSETTO:+0200
TZNAME:EET
DTSTART:20251026T010000
END:STANDARD
BEGIN:DAYLIGHT
TZOFFSETFROM:+0200
TZOFFSETTO:+0300
TZNAME:EEST
DTSTART:20260329T010000
END:DAYLIGHT
BEGIN:STANDARD
TZOFFSETFROM:+0300
TZOFFSETTO:+0200
TZNAME:EET
DTSTART:20261025T010000
END:STANDARD
END:VTIMEZONE
BEGIN:VEVENT
DTSTART;TZID=Europe/Tallinn:20250412T090000
DTEND;TZID=Europe/Tallinn:20250412T160000
DTSTAMP:20260423T165845
CREATED:20250407T072335Z
LAST-MODIFIED:20250407T072512Z
UID:5175-1744448400-1744473600@loksalinn.ee
SUMMARY:Loksa kevadlaat
DESCRIPTION:Loksa kevadlaat toimub Loksa linnaväljakul 12. aprillil kell 9.00-16.00.
URL:https://loksalinn.ee/sundmus/loksa-kevadlaat/
LOCATION:Loksa linnaväljak\, Tallinna tn 32\, Loksa\, Harjumaa\, 74806\, Estonia
ATTACH;FMTTYPE=image/jpeg:https://loksalinn.ee/wp-content/uploads/2025/04/Loksa-Kevadlaat-14.jpg
END:VEVENT
BEGIN:VEVENT
DTSTART;TZID=Europe/Tallinn:20250417T160000
DTEND;TZID=Europe/Tallinn:20250417T170000
DTSTAMP:20260423T165845
CREATED:20250407T072954Z
LAST-MODIFIED:20250407T072954Z
UID:5180-1744905600-1744909200@loksalinn.ee
SUMMARY:Munade värvimise töötuba
DESCRIPTION:Kõik huvilised on oodatud munavärvimise töötuppa Loksa Kultuurikeskuses 17.04. kell 16.00.
URL:https://loksalinn.ee/sundmus/munade-varvimise-tootuba/
LOCATION:Loksa Kultuurikeskus\, Tallinna 47a\, Loksa\, Harjumaa\, 74806\, Estonia
ATTACH;FMTTYPE=image/jpeg:https://loksalinn.ee/wp-content/uploads/2025/04/Munavarvimise-tootuba-14.jpg
ORGANIZER;CN="SA Loksa Kultuur":MAILTO:zoja.tumanova@loksa.ee
END:VEVENT
BEGIN:VEVENT
DTSTART;TZID=Europe/Tallinn:20250419T090000
DTEND;TZID=Europe/Tallinn:20250419T160000
DTSTAMP:20260423T165845
CREATED:20250414T075601Z
LAST-MODIFIED:20250414T075601Z
UID:5291-1745053200-1745078400@loksalinn.ee
SUMMARY:Loksa linna kevadlaat
DESCRIPTION:
URL:https://loksalinn.ee/sundmus/loksa-linna-kevadlaat/
LOCATION:Loksa linnaväljak\, Tallinna tn 32\, Loksa\, Harjumaa\, 74806\, Estonia
ATTACH;FMTTYPE=image/jpeg:https://loksalinn.ee/wp-content/uploads/2025/04/Loksa-aprilli-laat-2.jpg
ORGANIZER;CN="SA Loksa Kultuur":MAILTO:zoja.tumanova@loksa.ee
END:VEVENT
BEGIN:VEVENT
DTSTART;TZID=Europe/Tallinn:20250420T113000
DTEND;TZID=Europe/Tallinn:20250420T130000
DTSTAMP:20260423T165845
CREATED:20250415T091332Z
LAST-MODIFIED:20250415T091958Z
UID:5296-1745148600-1745154000@loksalinn.ee
SUMMARY:1. ülesõusmispüha kontsert-jumalateenistus
DESCRIPTION:
URL:https://loksalinn.ee/sundmus/1-ulesousmispuha-kontsert-jumalateenistus/
LOCATION:Loksa Püha Neitsi Maarja kirik\, Tallinna tn 54\, Loksa\, Harjumaa\, 74806\, Estonia
ATTACH;FMTTYPE=image/jpeg:https://loksalinn.ee/wp-content/uploads/2025/04/Loksa-Puha-Neitsi-Maarja-kirik-10.jpg
ORGANIZER;CN="SA Loksa Kultuur":MAILTO:zoja.tumanova@loksa.ee
END:VEVENT
BEGIN:VEVENT
DTSTART;TZID=Europe/Tallinn:20250422T183000
DTEND;TZID=Europe/Tallinn:20250422T193000
DTSTAMP:20260423T165845
CREATED:20250407T092746Z
LAST-MODIFIED:20250407T093426Z
UID:5203-1745346600-1745350200@loksalinn.ee
SUMMARY:Loksa jüriööjooks 2025
DESCRIPTION:Vaata infot Loksa linna uudiste alt. \nTule jooksma!
URL:https://loksalinn.ee/sundmus/loksa-jurioojooks-2025/
LOCATION:Loksa linnaväljak\, Tallinna tn 32\, Loksa\, Harjumaa\, 74806\, Estonia
ATTACH;FMTTYPE=image/png:https://loksalinn.ee/wp-content/uploads/2025/04/JURIOOJOOKS-2025-1-3-1.png
ORGANIZER;CN="SA Loksa Sport":MAILTO:tarmo.amer@loksa.ee
END:VEVENT
END:VCALENDAR