BEGIN:VCALENDAR
VERSION:2.0
PRODID:-//Loksa linn - ECPv6.15.20//NONSGML v1.0//EN
CALSCALE:GREGORIAN
METHOD:PUBLISH
X-WR-CALNAME:Loksa linn
X-ORIGINAL-URL:https://loksalinn.ee
X-WR-CALDESC:Events for Loksa linn
REFRESH-INTERVAL;VALUE=DURATION:PT1H
X-Robots-Tag:noindex
X-PUBLISHED-TTL:PT1H
BEGIN:VTIMEZONE
TZID:Europe/Tallinn
BEGIN:DAYLIGHT
TZOFFSETFROM:+0200
TZOFFSETTO:+0300
TZNAME:EEST
DTSTART:20240331T010000
END:DAYLIGHT
BEGIN:STANDARD
TZOFFSETFROM:+0300
TZOFFSETTO:+0200
TZNAME:EET
DTSTART:20241027T010000
END:STANDARD
BEGIN:DAYLIGHT
TZOFFSETFROM:+0200
TZOFFSETTO:+0300
TZNAME:EEST
DTSTART:20250330T010000
END:DAYLIGHT
BEGIN:STANDARD
TZOFFSETFROM:+0300
TZOFFSETTO:+0200
TZNAME:EET
DTSTART:20251026T010000
END:STANDARD
BEGIN:DAYLIGHT
TZOFFSETFROM:+0200
TZOFFSETTO:+0300
TZNAME:EEST
DTSTART:20260329T010000
END:DAYLIGHT
BEGIN:STANDARD
TZOFFSETFROM:+0300
TZOFFSETTO:+0200
TZNAME:EET
DTSTART:20261025T010000
END:STANDARD
END:VTIMEZONE
BEGIN:VEVENT
DTSTART;TZID=Europe/Tallinn:20250601T113000
DTEND;TZID=Europe/Tallinn:20250601T150000
DTSTAMP:20260423T133920
CREATED:20250516T093104Z
LAST-MODIFIED:20250516T093319Z
UID:5805-1748777400-1748790000@loksalinn.ee
SUMMARY:Lastekaitsepäeva matk
DESCRIPTION:Lähme koos lastega 1. juunil matkama. Kõik on oodatud kampa lööma. Peame ka ühiselt mere ääres piknikku.
URL:https://loksalinn.ee/sundmus/lastekaitsepaeva-matk/
LOCATION:Loksa linnaväljak\, Tallinna tn 32\, Loksa\, Harjumaa\, 74806\, Estonia
ATTACH;FMTTYPE=image/jpeg:https://loksalinn.ee/wp-content/uploads/2025/05/lastekaitsepaeva-matk.jpg
ORGANIZER;CN="Loksa Spordikeskus":MAILTO:tarmo.amer@loksa.ee
END:VEVENT
BEGIN:VEVENT
DTSTART;TZID=Europe/Tallinn:20250601T160000
DTEND;TZID=Europe/Tallinn:20250601T170000
DTSTAMP:20260423T133920
CREATED:20250522T103220Z
LAST-MODIFIED:20250522T103320Z
UID:5839-1748793600-1748797200@loksalinn.ee
SUMMARY:Lastekaitsepäeva kontsert
DESCRIPTION:Lastkaitsepäeval. 01.06.2025 toimub Loksa Kultuurikeskuse ees kontsert “Õnne hääled”\, algus kell 16.00. \n \n 
URL:https://loksalinn.ee/sundmus/lastakaitsepaeva-kontsert/
LOCATION:Loksa Kultuurikeskus\, Tallinna 47a\, Loksa\, Harjumaa\, 74806\, Estonia
ATTACH;FMTTYPE=image/jpeg:https://loksalinn.ee/wp-content/uploads/2025/05/1.06.-1.jpg
ORGANIZER;CN="Loksa Kultuurikeskus":MAILTO:zoja.tumanova@loksa.ee
END:VEVENT
BEGIN:VEVENT
DTSTART;TZID=Europe/Tallinn:20250614T090000
DTEND;TZID=Europe/Tallinn:20250614T160000
DTSTAMP:20260423T133920
CREATED:20250608T181845Z
LAST-MODIFIED:20250608T181845Z
UID:6375-1749891600-1749916800@loksalinn.ee
SUMMARY:Loksa suvelaat
DESCRIPTION:Loksa suvelaat toimub 14. juunil.
URL:https://loksalinn.ee/sundmus/loksa-suvelaat/
LOCATION:Loksa linnaväljak\, Tallinna tn 32\, Loksa\, Harjumaa\, 74806\, Estonia
ATTACH;FMTTYPE=image/jpeg:https://loksalinn.ee/wp-content/uploads/2025/06/Loksa-suvelaat-8.jpg
ORGANIZER;CN="Loksa Kultuurikeskus":MAILTO:zoja.tumanova@loksa.ee
END:VEVENT
BEGIN:VEVENT
DTSTART;TZID=Europe/Tallinn:20250614T120000
DTEND;TZID=Europe/Tallinn:20250614T123000
DTSTAMP:20260423T133920
CREATED:20250609T153400Z
LAST-MODIFIED:20250609T153400Z
UID:6386-1749902400-1749904200@loksalinn.ee
SUMMARY:Mälestuspäev
DESCRIPTION:14. juunil mälestame neid\, kes pidid jätma oma kodud.
URL:https://loksalinn.ee/sundmus/malestuspaev/
LOCATION:Loksa Kiriku mälestusmärk\, Loksa linn\, Harju maakond\, 74816\, Estonia
ATTACH;FMTTYPE=image/jpeg:https://loksalinn.ee/wp-content/uploads/2025/06/Juunikuuditamise-meenutamiseks-kohtume-Loksa-kirikuaia-malestuskivi-juures-14.-juunil-kell-12.00-5-1.jpg
ORGANIZER;CN="Loksa Kultuurikeskus":MAILTO:zoja.tumanova@loksa.ee
END:VEVENT
BEGIN:VEVENT
DTSTART;TZID=Europe/Tallinn:20250614T140000
DTEND;TZID=Europe/Tallinn:20250614T160000
DTSTAMP:20260423T133920
CREATED:20250529T115800Z
LAST-MODIFIED:20250529T115800Z
UID:5920-1749909600-1749916800@loksalinn.ee
SUMMARY:Kontsert "Heliseb väljadel" Loksa Kultuurikeskuses
DESCRIPTION:Eesti koorimuusikat esitab Loksa Muusikakooli Vilistalsnaiskoor. Kavas on eeloleva laulupeo “Iseoma” repertuaar jm. Kontserdil astuvad üles pärimusmuusikaud Sofia Rutiku ja Miia Vanahans.
URL:https://loksalinn.ee/sundmus/kontsert-heliseb-valjadel-loksa-kultuurikeskuses/
LOCATION:Loksa Kultuurikeskus\, Tallinna 47a\, Loksa\, Harjumaa\, 74806\, Estonia
ATTACH;FMTTYPE=image/jpeg:https://loksalinn.ee/wp-content/uploads/2025/05/Kontserti-Heliseb-valjadel-1-page-001.jpg
END:VEVENT
BEGIN:VEVENT
DTSTART;TZID=Europe/Tallinn:20250619T150000
DTEND;TZID=Europe/Tallinn:20250619T170000
DTSTAMP:20260423T133920
CREATED:20250604T104144Z
LAST-MODIFIED:20250604T104228Z
UID:5974-1750345200-1750352400@loksalinn.ee
SUMMARY:Loksa Gümnaasiumi 12. klassi lõpuaktus
DESCRIPTION:Loksa Gümnaasiumi lõpuaktus toimub 20. juunil kell 15.00.
URL:https://loksalinn.ee/sundmus/loksa-gumnaasiumi-12-klassi-lopuaktus/
LOCATION:Loksa Gümnaasium\, Tallinna tn 47\, Loksa\, Harju maakond\, 74806\, Estonia
END:VEVENT
BEGIN:VEVENT
DTSTART;TZID=Europe/Tallinn:20250620T150000
DTEND;TZID=Europe/Tallinn:20250620T170000
DTSTAMP:20260423T133920
CREATED:20250604T104457Z
LAST-MODIFIED:20250604T104457Z
UID:5977-1750431600-1750438800@loksalinn.ee
SUMMARY:Loksa Gümnaasiumi 9. klasside lõpuaktus
DESCRIPTION:Loksa Gümnnaasiumi 9. kalsside lõpuaktus toimub 20. juunil kell 15.00.
URL:https://loksalinn.ee/sundmus/loksa-gumnaasiumi-9-klasside-lopuaktus/
LOCATION:Loksa Gümnaasium\, Tallinna tn 47\, Loksa\, Harju maakond\, 74806\, Estonia
END:VEVENT
BEGIN:VEVENT
DTSTART;TZID=Europe/Tallinn:20250623T180000
DTEND;TZID=Europe/Tallinn:20250623T220000
DTSTAMP:20260423T133920
CREATED:20250609T150846Z
LAST-MODIFIED:20250613T091728Z
UID:6381-1750701600-1750716000@loksalinn.ee
SUMMARY:Loksa jaanituli
DESCRIPTION:23. juunil olete kõik oodatud osa saama Loksa jaanitulest. Kell 18. 00 algavad murumängud\, lõkke süütame kell 19.30 ning alates 20.00-st mängib ja laulab tantsuks Rauno Koorts.
URL:https://loksalinn.ee/sundmus/loksa-jaanituli/
LOCATION:Loksa linnaväljak\, Tallinna tn 32\, Loksa\, Harjumaa\, 74806\, Estonia
ATTACH;FMTTYPE=image/jpeg:https://loksalinn.ee/wp-content/uploads/2025/06/Loksa-Jaanituli-5.jpg
ORGANIZER;CN="Loksa Kultuurikeskus":MAILTO:zoja.tumanova@loksa.ee
END:VEVENT
END:VCALENDAR