BEGIN:VCALENDAR
VERSION:2.0
PRODID:-//Loksa linn - ECPv6.15.20//NONSGML v1.0//EN
CALSCALE:GREGORIAN
METHOD:PUBLISH
X-ORIGINAL-URL:https://loksalinn.ee
X-WR-CALDESC:Events for Loksa linn
REFRESH-INTERVAL;VALUE=DURATION:PT1H
X-Robots-Tag:noindex
X-PUBLISHED-TTL:PT1H
BEGIN:VTIMEZONE
TZID:Europe/Tallinn
BEGIN:DAYLIGHT
TZOFFSETFROM:+0200
TZOFFSETTO:+0300
TZNAME:EEST
DTSTART:20250330T010000
END:DAYLIGHT
BEGIN:STANDARD
TZOFFSETFROM:+0300
TZOFFSETTO:+0200
TZNAME:EET
DTSTART:20251026T010000
END:STANDARD
BEGIN:DAYLIGHT
TZOFFSETFROM:+0200
TZOFFSETTO:+0300
TZNAME:EEST
DTSTART:20260329T010000
END:DAYLIGHT
BEGIN:STANDARD
TZOFFSETFROM:+0300
TZOFFSETTO:+0200
TZNAME:EET
DTSTART:20261025T010000
END:STANDARD
BEGIN:DAYLIGHT
TZOFFSETFROM:+0200
TZOFFSETTO:+0300
TZNAME:EEST
DTSTART:20270328T010000
END:DAYLIGHT
BEGIN:STANDARD
TZOFFSETFROM:+0300
TZOFFSETTO:+0200
TZNAME:EET
DTSTART:20271031T010000
END:STANDARD
END:VTIMEZONE
BEGIN:VEVENT
DTSTART;TZID=Europe/Tallinn:20260103T110000
DTEND;TZID=Europe/Tallinn:20260103T150000
DTSTAMP:20260420T122001
CREATED:20251204T051956Z
LAST-MODIFIED:20251209T122230Z
UID:8587-1767438000-1767452400@loksalinn.ee
SUMMARY:Võrkpalliturniir segapaaridele
DESCRIPTION:Registreeri tel 5660 0797 või tarmo.nuija@gmail.com
URL:https://loksalinn.ee/sundmus/vorkpalliturniir-segapaaridele/
LOCATION:Loksa Spordikeskus\, Tallinna tn 47b\, Loksa\, Harjumaa\, 74806\, Estonia
ATTACH;FMTTYPE=image/jpeg:https://loksalinn.ee/wp-content/uploads/2025/12/vorkpall-1.jpg
ORGANIZER;CN="Loksa Spordikeskus":MAILTO:tarmo.amer@loksa.ee
END:VEVENT
BEGIN:VEVENT
DTSTART;TZID=Europe/Tallinn:20260116T130000
DTEND;TZID=Europe/Tallinn:20260116T150000
DTSTAMP:20260420T122001
CREATED:20260108T161317Z
LAST-MODIFIED:20260108T161317Z
UID:8942-1768568400-1768575600@loksalinn.ee
SUMMARY:Perekond Mikiverile pühendatud õhtu
DESCRIPTION:
URL:https://loksalinn.ee/sundmus/perekond-mikiverile-puhendatud-ohtu/
LOCATION:Loksa Kultuurikeskus\, Tallinna 47a\, Loksa\, Harjumaa\, 74806\, Estonia
ATTACH;FMTTYPE=image/jpeg:https://loksalinn.ee/wp-content/uploads/2026/01/KUTSE-3-page-001.jpg
END:VEVENT
BEGIN:VEVENT
DTSTART;TZID=Europe/Tallinn:20260130T180000
DTEND;TZID=Europe/Tallinn:20260130T233000
DTSTAMP:20260420T122001
CREATED:20260121T133835Z
LAST-MODIFIED:20260121T133835Z
UID:9033-1769796000-1769815800@loksalinn.ee
SUMMARY:Mängu- ja tantsuõhtud Loksa Kultuurikeskuses
DESCRIPTION:Üritustesari on suunatud eakatele (55+)\, kuid osalema on oodatud ka teised kogukonnaliikmed. Erinevate vanuserühmade kaasamine aitab tugevdada põlvkondade vahelist suhtlust\, vähendada sotsiaalset eraldatust ning suurendada kogukonnatunnet Loksa linnas. \nÕhtu esimene osa algab kell 18.00 mänguõhtuna\, pakkudes osalejatele võimalust koos mängida erinevaid seltskonna- ja lauamänge. \nAlates kell 20.00 jätkub õhtu tantsuõhtuna\, kus elav muusika loob võimaluse nii seltskonna- kui ka vabaks tantsuks. Tantsuõhtutele kaasatakse ka kogukonna rahva- ja seltskonnatantsijaid\, et soodustada osalemist ning toetada neid\, kes vajavad tantsupartnerit või julgustust kaasa löömiseks. \nMängu- ja tantsuõhtud toimuvad Loksa Kultuurikeskuses 30.01\, 27.02\, 20.03\, 10.04 ja 8.05. \nSoovi korral võta kaasa meelepärast sööki/jooki ja kindlasti ka hea tuju! \n  \nLaua broneerimine lingil: https://fienta.com/et/s/mangu-ja-tantsuohtud-loksa-kultuurikeskuses-laua-broneerimine \n  \nLisainfo kontaktidel Karin Ilves 5687 5555\, karin.ilves@hotmail.com \n  \n*Üritused on osa MTÜ Loksa Kogukond tegevustest\, mille eesmärk on edendada aktiivset\, hoolivat ja koostöist kogukonda. \n  \n  \nNB! Lisaks toimuvad 55+ vanustele tasuta seltskonnatantsutreeningud. Registreeruda saab igale toimumiskorrale eraldi siin https://fienta.com/et/s/tantsutreeningud-eakatele-loksa-kultuurikeskuses.
URL:https://loksalinn.ee/sundmus/mangu-ja-tantsuohtud-loksa-kultuurikeskuses/
LOCATION:Loksa Kultuurikeskus\, Tallinna 47a\, Loksa\, Harjumaa\, 74806\, Estonia
END:VEVENT
BEGIN:VEVENT
DTSTART;TZID=Europe/Tallinn:20260131T120000
DTEND;TZID=Europe/Tallinn:20260131T140000
DTSTAMP:20260420T122001
CREATED:20260121T140340Z
LAST-MODIFIED:20260121T140422Z
UID:9058-1769860800-1769868000@loksalinn.ee
SUMMARY:Loksa linna suusavõistlus
DESCRIPTION:Algus Männi tn silla juures. \nJuhendi leiad https://www.facebook.com/loksasport?locale=et_EE
URL:https://loksalinn.ee/sundmus/loksa-linna-suusavoistlus-2/
LOCATION:Loksa Terviserada\, Mere 7a\, Loksa\, 74806
ATTACH;FMTTYPE=image/jpeg:https://loksalinn.ee/wp-content/uploads/2026/01/LOKSA-LINNA-SUUSAVOISTLUS-page-001-1.jpg
ORGANIZER;CN="Loksa Spordikeskus":MAILTO:tarmo.amer@loksa.ee
END:VEVENT
BEGIN:VEVENT
DTSTART;TZID=Europe/Tallinn:20260131T170000
DTEND;TZID=Europe/Tallinn:20260131T180000
DTSTAMP:20260420T122001
CREATED:20260123T073118Z
LAST-MODIFIED:20260123T073118Z
UID:9103-1769878800-1769882400@loksalinn.ee
SUMMARY:Talveõhtu laulud
DESCRIPTION:
URL:https://loksalinn.ee/sundmus/talveohtu-laulud/
LOCATION:Loksa Kultuurikeskus\, Tallinna 47a\, Loksa\, Harjumaa\, 74806\, Estonia
ATTACH;FMTTYPE=image/jpeg:https://loksalinn.ee/wp-content/uploads/2026/01/Loksa-Kultuurikeskus-1.jpg
ORGANIZER;CN="Loksa Kultuurikeskus":MAILTO:zoja.tumanova@loksa.ee
END:VEVENT
END:VCALENDAR