BEGIN:VCALENDAR
VERSION:2.0
PRODID:-//Loksa linn - ECPv6.15.20//NONSGML v1.0//EN
CALSCALE:GREGORIAN
METHOD:PUBLISH
X-WR-CALNAME:Loksa linn
X-ORIGINAL-URL:https://loksalinn.ee
X-WR-CALDESC:Events for Loksa linn
REFRESH-INTERVAL;VALUE=DURATION:PT1H
X-Robots-Tag:noindex
X-PUBLISHED-TTL:PT1H
BEGIN:VTIMEZONE
TZID:Europe/Tallinn
BEGIN:DAYLIGHT
TZOFFSETFROM:+0200
TZOFFSETTO:+0300
TZNAME:EEST
DTSTART:20250330T010000
END:DAYLIGHT
BEGIN:STANDARD
TZOFFSETFROM:+0300
TZOFFSETTO:+0200
TZNAME:EET
DTSTART:20251026T010000
END:STANDARD
BEGIN:DAYLIGHT
TZOFFSETFROM:+0200
TZOFFSETTO:+0300
TZNAME:EEST
DTSTART:20260329T010000
END:DAYLIGHT
BEGIN:STANDARD
TZOFFSETFROM:+0300
TZOFFSETTO:+0200
TZNAME:EET
DTSTART:20261025T010000
END:STANDARD
BEGIN:DAYLIGHT
TZOFFSETFROM:+0200
TZOFFSETTO:+0300
TZNAME:EEST
DTSTART:20270328T010000
END:DAYLIGHT
BEGIN:STANDARD
TZOFFSETFROM:+0300
TZOFFSETTO:+0200
TZNAME:EET
DTSTART:20271031T010000
END:STANDARD
END:VTIMEZONE
BEGIN:VEVENT
DTSTART;TZID=Europe/Tallinn:20260509T090000
DTEND;TZID=Europe/Tallinn:20260509T160000
DTSTAMP:20260420T205441
CREATED:20260417T105940Z
LAST-MODIFIED:20260417T105940Z
UID:9967-1778317200-1778342400@loksalinn.ee
SUMMARY:Mailaat
DESCRIPTION:
URL:https://loksalinn.ee/sundmus/mailaat/
LOCATION:Loksa linnaväljak\, Tallinna tn 32\, Loksa\, Harjumaa\, 74806\, Estonia
ATTACH;FMTTYPE=image/png:https://loksalinn.ee/wp-content/uploads/2026/04/MAILAAT-2.png
ORGANIZER;CN="Loksa Kultuurikeskus":MAILTO:zoja.tumanova@loksa.ee
END:VEVENT
BEGIN:VEVENT
DTSTART;TZID=Europe/Tallinn:20260523T140000
DTEND;TZID=Europe/Tallinn:20260523T161500
DTSTAMP:20260420T205441
CREATED:20260304T105256Z
LAST-MODIFIED:20260406T060943Z
UID:9440-1779544800-1779552900@loksalinn.ee
SUMMARY:Loengusari tervisest ja toitumisest
DESCRIPTION:Tasuta loengusarjad tervisest ja toitumisest toimuvad Loksa Kultuurikeskuses 28.03.2026\, 18.04.2026\, 23.05.2026. Iga loeng kestab 1h. Loengud viib läbi Julia Gedike. \nOsalemine on tasuta!
URL:https://loksalinn.ee/sundmus/loengusari-tervisest-ja-toitumisest-3/
LOCATION:Loksa Kultuurikeskus\, Tallinna 47a\, Loksa\, Harjumaa\, 74806\, Estonia
END:VEVENT
END:VCALENDAR